BEGIN:VCALENDAR
VERSION:2.0
PRODID:-//Truly Alive Youth and Family Foundation - ECPv6.15.17.1//NONSGML v1.0//EN
CALSCALE:GREGORIAN
METHOD:PUBLISH
X-ORIGINAL-URL:https://trulyalivefoundation.org
X-WR-CALDESC:Events for Truly Alive Youth and Family Foundation
REFRESH-INTERVAL;VALUE=DURATION:PT1H
X-Robots-Tag:noindex
X-PUBLISHED-TTL:PT1H
BEGIN:VTIMEZONE
TZID:UTC
BEGIN:STANDARD
TZOFFSETFROM:+0000
TZOFFSETTO:+0000
TZNAME:UTC
DTSTART:20240101T000000
END:STANDARD
END:VTIMEZONE
BEGIN:VEVENT
DTSTART;TZID=UTC:20250421T080000
DTEND;TZID=UTC:20250421T170000
DTSTAMP:20260420T120524
CREATED:20250210T233226Z
LAST-MODIFIED:20250913T000629Z
UID:10000350-1745222400-1745254800@trulyalivefoundation.org
SUMMARY:Be The Program
DESCRIPTION:Are a Youth between the ages 14-24 and ready to take charge\, challenge stereotypes in dating\, and build healthier relationships? \nTruly Alive Youth and Family Foundation in partnership with The Students Commission is hosting “Be The Program” Building Skills for Healthy\, Positive Dating Choices. This is an exciting 8-week experience designed to equip YOU with the tools to navigate friendships\, dating\, and social pressures while becoming a positive force in your community. \nWhat’s in it for you? \n\n Build confidence in making healthy relationship choices.\n Learn how to challenge toxic norms & peer pressure.\n Gain leadership skills & become a peer influencer.\n Connect with like-minded youth & have fun while learning!\n\nProgram Start: February 2025 | Saskatoon\, Canada \nProgram Ends: April 2025 \nSpots are limited! Sign up now and Take The First Step Towards A Healthier Positive Relationship! \nRegister Now
URL:https://trulyalivefoundation.org/event/be-the-program/2025-04-21/
LOCATION:Multiple Locations\, Multiple Locations\, Saskatoon\, Canada
ATTACH;FMTTYPE=image/png:https://trulyalivefoundation.org/wp-content/uploads/2025/02/Be-The-Program-Promotional-Poster.png
END:VEVENT
BEGIN:VEVENT
DTSTART;TZID=UTC:20250414T080000
DTEND;TZID=UTC:20250414T170000
DTSTAMP:20260420T120524
CREATED:20250210T233226Z
LAST-MODIFIED:20250913T000629Z
UID:10000349-1744617600-1744650000@trulyalivefoundation.org
SUMMARY:Be The Program
DESCRIPTION:Are a Youth between the ages 14-24 and ready to take charge\, challenge stereotypes in dating\, and build healthier relationships? \nTruly Alive Youth and Family Foundation in partnership with The Students Commission is hosting “Be The Program” Building Skills for Healthy\, Positive Dating Choices. This is an exciting 8-week experience designed to equip YOU with the tools to navigate friendships\, dating\, and social pressures while becoming a positive force in your community. \nWhat’s in it for you? \n\n Build confidence in making healthy relationship choices.\n Learn how to challenge toxic norms & peer pressure.\n Gain leadership skills & become a peer influencer.\n Connect with like-minded youth & have fun while learning!\n\nProgram Start: February 2025 | Saskatoon\, Canada \nProgram Ends: April 2025 \nSpots are limited! Sign up now and Take The First Step Towards A Healthier Positive Relationship! \nRegister Now
URL:https://trulyalivefoundation.org/event/be-the-program/2025-04-14/
LOCATION:Multiple Locations\, Multiple Locations\, Saskatoon\, Canada
ATTACH;FMTTYPE=image/png:https://trulyalivefoundation.org/wp-content/uploads/2025/02/Be-The-Program-Promotional-Poster.png
END:VEVENT
BEGIN:VEVENT
DTSTART;TZID=UTC:20250407T080000
DTEND;TZID=UTC:20250407T170000
DTSTAMP:20260420T120524
CREATED:20250210T233226Z
LAST-MODIFIED:20250913T000629Z
UID:10000348-1744012800-1744045200@trulyalivefoundation.org
SUMMARY:Be The Program
DESCRIPTION:Are a Youth between the ages 14-24 and ready to take charge\, challenge stereotypes in dating\, and build healthier relationships? \nTruly Alive Youth and Family Foundation in partnership with The Students Commission is hosting “Be The Program” Building Skills for Healthy\, Positive Dating Choices. This is an exciting 8-week experience designed to equip YOU with the tools to navigate friendships\, dating\, and social pressures while becoming a positive force in your community. \nWhat’s in it for you? \n\n Build confidence in making healthy relationship choices.\n Learn how to challenge toxic norms & peer pressure.\n Gain leadership skills & become a peer influencer.\n Connect with like-minded youth & have fun while learning!\n\nProgram Start: February 2025 | Saskatoon\, Canada \nProgram Ends: April 2025 \nSpots are limited! Sign up now and Take The First Step Towards A Healthier Positive Relationship! \nRegister Now
URL:https://trulyalivefoundation.org/event/be-the-program/2025-04-07/
LOCATION:Multiple Locations\, Multiple Locations\, Saskatoon\, Canada
ATTACH;FMTTYPE=image/png:https://trulyalivefoundation.org/wp-content/uploads/2025/02/Be-The-Program-Promotional-Poster.png
END:VEVENT
BEGIN:VEVENT
DTSTART;TZID=UTC:20250331T080000
DTEND;TZID=UTC:20250331T170000
DTSTAMP:20260420T120524
CREATED:20250210T233226Z
LAST-MODIFIED:20250913T000629Z
UID:10000347-1743408000-1743440400@trulyalivefoundation.org
SUMMARY:Be The Program
DESCRIPTION:Are a Youth between the ages 14-24 and ready to take charge\, challenge stereotypes in dating\, and build healthier relationships? \nTruly Alive Youth and Family Foundation in partnership with The Students Commission is hosting “Be The Program” Building Skills for Healthy\, Positive Dating Choices. This is an exciting 8-week experience designed to equip YOU with the tools to navigate friendships\, dating\, and social pressures while becoming a positive force in your community. \nWhat’s in it for you? \n\n Build confidence in making healthy relationship choices.\n Learn how to challenge toxic norms & peer pressure.\n Gain leadership skills & become a peer influencer.\n Connect with like-minded youth & have fun while learning!\n\nProgram Start: February 2025 | Saskatoon\, Canada \nProgram Ends: April 2025 \nSpots are limited! Sign up now and Take The First Step Towards A Healthier Positive Relationship! \nRegister Now
URL:https://trulyalivefoundation.org/event/be-the-program/2025-03-31/
LOCATION:Multiple Locations\, Multiple Locations\, Saskatoon\, Canada
ATTACH;FMTTYPE=image/png:https://trulyalivefoundation.org/wp-content/uploads/2025/02/Be-The-Program-Promotional-Poster.png
END:VEVENT
BEGIN:VEVENT
DTSTART;TZID=UTC:20250324T080000
DTEND;TZID=UTC:20250324T170000
DTSTAMP:20260420T120524
CREATED:20250210T233226Z
LAST-MODIFIED:20250913T000629Z
UID:10000346-1742803200-1742835600@trulyalivefoundation.org
SUMMARY:Be The Program
DESCRIPTION:Are a Youth between the ages 14-24 and ready to take charge\, challenge stereotypes in dating\, and build healthier relationships? \nTruly Alive Youth and Family Foundation in partnership with The Students Commission is hosting “Be The Program” Building Skills for Healthy\, Positive Dating Choices. This is an exciting 8-week experience designed to equip YOU with the tools to navigate friendships\, dating\, and social pressures while becoming a positive force in your community. \nWhat’s in it for you? \n\n Build confidence in making healthy relationship choices.\n Learn how to challenge toxic norms & peer pressure.\n Gain leadership skills & become a peer influencer.\n Connect with like-minded youth & have fun while learning!\n\nProgram Start: February 2025 | Saskatoon\, Canada \nProgram Ends: April 2025 \nSpots are limited! Sign up now and Take The First Step Towards A Healthier Positive Relationship! \nRegister Now
URL:https://trulyalivefoundation.org/event/be-the-program/2025-03-24/
LOCATION:Multiple Locations\, Multiple Locations\, Saskatoon\, Canada
ATTACH;FMTTYPE=image/png:https://trulyalivefoundation.org/wp-content/uploads/2025/02/Be-The-Program-Promotional-Poster.png
END:VEVENT
BEGIN:VEVENT
DTSTART;TZID=UTC:20250317T080000
DTEND;TZID=UTC:20250317T170000
DTSTAMP:20260420T120524
CREATED:20250210T233226Z
LAST-MODIFIED:20250913T000629Z
UID:10000345-1742198400-1742230800@trulyalivefoundation.org
SUMMARY:Be The Program
DESCRIPTION:Are a Youth between the ages 14-24 and ready to take charge\, challenge stereotypes in dating\, and build healthier relationships? \nTruly Alive Youth and Family Foundation in partnership with The Students Commission is hosting “Be The Program” Building Skills for Healthy\, Positive Dating Choices. This is an exciting 8-week experience designed to equip YOU with the tools to navigate friendships\, dating\, and social pressures while becoming a positive force in your community. \nWhat’s in it for you? \n\n Build confidence in making healthy relationship choices.\n Learn how to challenge toxic norms & peer pressure.\n Gain leadership skills & become a peer influencer.\n Connect with like-minded youth & have fun while learning!\n\nProgram Start: February 2025 | Saskatoon\, Canada \nProgram Ends: April 2025 \nSpots are limited! Sign up now and Take The First Step Towards A Healthier Positive Relationship! \nRegister Now
URL:https://trulyalivefoundation.org/event/be-the-program/2025-03-17/
LOCATION:Multiple Locations\, Multiple Locations\, Saskatoon\, Canada
ATTACH;FMTTYPE=image/png:https://trulyalivefoundation.org/wp-content/uploads/2025/02/Be-The-Program-Promotional-Poster.png
END:VEVENT
BEGIN:VEVENT
DTSTART;TZID=UTC:20250310T080000
DTEND;TZID=UTC:20250310T170000
DTSTAMP:20260420T120524
CREATED:20250210T233226Z
LAST-MODIFIED:20250913T000629Z
UID:10000344-1741593600-1741626000@trulyalivefoundation.org
SUMMARY:Be The Program
DESCRIPTION:Are a Youth between the ages 14-24 and ready to take charge\, challenge stereotypes in dating\, and build healthier relationships? \nTruly Alive Youth and Family Foundation in partnership with The Students Commission is hosting “Be The Program” Building Skills for Healthy\, Positive Dating Choices. This is an exciting 8-week experience designed to equip YOU with the tools to navigate friendships\, dating\, and social pressures while becoming a positive force in your community. \nWhat’s in it for you? \n\n Build confidence in making healthy relationship choices.\n Learn how to challenge toxic norms & peer pressure.\n Gain leadership skills & become a peer influencer.\n Connect with like-minded youth & have fun while learning!\n\nProgram Start: February 2025 | Saskatoon\, Canada \nProgram Ends: April 2025 \nSpots are limited! Sign up now and Take The First Step Towards A Healthier Positive Relationship! \nRegister Now
URL:https://trulyalivefoundation.org/event/be-the-program/2025-03-10/
LOCATION:Multiple Locations\, Multiple Locations\, Saskatoon\, Canada
ATTACH;FMTTYPE=image/png:https://trulyalivefoundation.org/wp-content/uploads/2025/02/Be-The-Program-Promotional-Poster.png
END:VEVENT
BEGIN:VEVENT
DTSTART;TZID=UTC:20250303T080000
DTEND;TZID=UTC:20250303T170000
DTSTAMP:20260420T120524
CREATED:20250210T233226Z
LAST-MODIFIED:20250913T000629Z
UID:10000343-1740988800-1741021200@trulyalivefoundation.org
SUMMARY:Be The Program
DESCRIPTION:Are a Youth between the ages 14-24 and ready to take charge\, challenge stereotypes in dating\, and build healthier relationships? \nTruly Alive Youth and Family Foundation in partnership with The Students Commission is hosting “Be The Program” Building Skills for Healthy\, Positive Dating Choices. This is an exciting 8-week experience designed to equip YOU with the tools to navigate friendships\, dating\, and social pressures while becoming a positive force in your community. \nWhat’s in it for you? \n\n Build confidence in making healthy relationship choices.\n Learn how to challenge toxic norms & peer pressure.\n Gain leadership skills & become a peer influencer.\n Connect with like-minded youth & have fun while learning!\n\nProgram Start: February 2025 | Saskatoon\, Canada \nProgram Ends: April 2025 \nSpots are limited! Sign up now and Take The First Step Towards A Healthier Positive Relationship! \nRegister Now
URL:https://trulyalivefoundation.org/event/be-the-program/2025-03-03/
LOCATION:Multiple Locations\, Multiple Locations\, Saskatoon\, Canada
ATTACH;FMTTYPE=image/png:https://trulyalivefoundation.org/wp-content/uploads/2025/02/Be-The-Program-Promotional-Poster.png
END:VEVENT
BEGIN:VEVENT
DTSTART;TZID=UTC:20250224T080000
DTEND;TZID=UTC:20250224T170000
DTSTAMP:20260420T120524
CREATED:20250210T233226Z
LAST-MODIFIED:20250913T000629Z
UID:10000342-1740384000-1740416400@trulyalivefoundation.org
SUMMARY:Be The Program
DESCRIPTION:Are a Youth between the ages 14-24 and ready to take charge\, challenge stereotypes in dating\, and build healthier relationships? \nTruly Alive Youth and Family Foundation in partnership with The Students Commission is hosting “Be The Program” Building Skills for Healthy\, Positive Dating Choices. This is an exciting 8-week experience designed to equip YOU with the tools to navigate friendships\, dating\, and social pressures while becoming a positive force in your community. \nWhat’s in it for you? \n\n Build confidence in making healthy relationship choices.\n Learn how to challenge toxic norms & peer pressure.\n Gain leadership skills & become a peer influencer.\n Connect with like-minded youth & have fun while learning!\n\nProgram Start: February 2025 | Saskatoon\, Canada \nProgram Ends: April 2025 \nSpots are limited! Sign up now and Take The First Step Towards A Healthier Positive Relationship! \nRegister Now
URL:https://trulyalivefoundation.org/event/be-the-program/2025-02-24/
LOCATION:Multiple Locations\, Multiple Locations\, Saskatoon\, Canada
ATTACH;FMTTYPE=image/png:https://trulyalivefoundation.org/wp-content/uploads/2025/02/Be-The-Program-Promotional-Poster.png
END:VEVENT
BEGIN:VEVENT
DTSTART;TZID=UTC:20250217T080000
DTEND;TZID=UTC:20250217T170000
DTSTAMP:20260420T120524
CREATED:20250210T233226Z
LAST-MODIFIED:20250913T000629Z
UID:10000341-1739779200-1739811600@trulyalivefoundation.org
SUMMARY:Be The Program
DESCRIPTION:Are a Youth between the ages 14-24 and ready to take charge\, challenge stereotypes in dating\, and build healthier relationships? \nTruly Alive Youth and Family Foundation in partnership with The Students Commission is hosting “Be The Program” Building Skills for Healthy\, Positive Dating Choices. This is an exciting 8-week experience designed to equip YOU with the tools to navigate friendships\, dating\, and social pressures while becoming a positive force in your community. \nWhat’s in it for you? \n\n Build confidence in making healthy relationship choices.\n Learn how to challenge toxic norms & peer pressure.\n Gain leadership skills & become a peer influencer.\n Connect with like-minded youth & have fun while learning!\n\nProgram Start: February 2025 | Saskatoon\, Canada \nProgram Ends: April 2025 \nSpots are limited! Sign up now and Take The First Step Towards A Healthier Positive Relationship! \nRegister Now
URL:https://trulyalivefoundation.org/event/be-the-program/2025-02-17/
LOCATION:Multiple Locations\, Multiple Locations\, Saskatoon\, Canada
ATTACH;FMTTYPE=image/png:https://trulyalivefoundation.org/wp-content/uploads/2025/02/Be-The-Program-Promotional-Poster.png
END:VEVENT
BEGIN:VEVENT
DTSTART;TZID=UTC:20250210T080000
DTEND;TZID=UTC:20250210T170000
DTSTAMP:20260420T120524
CREATED:20250210T233226Z
LAST-MODIFIED:20250913T000629Z
UID:10000041-1739174400-1739206800@trulyalivefoundation.org
SUMMARY:Be The Program
DESCRIPTION:Are a Youth between the ages 14-24 and ready to take charge\, challenge stereotypes in dating\, and build healthier relationships? \nTruly Alive Youth and Family Foundation in partnership with The Students Commission is hosting “Be The Program” Building Skills for Healthy\, Positive Dating Choices. This is an exciting 8-week experience designed to equip YOU with the tools to navigate friendships\, dating\, and social pressures while becoming a positive force in your community. \nWhat’s in it for you? \n\n Build confidence in making healthy relationship choices.\n Learn how to challenge toxic norms & peer pressure.\n Gain leadership skills & become a peer influencer.\n Connect with like-minded youth & have fun while learning!\n\nProgram Start: February 2025 | Saskatoon\, Canada \nProgram Ends: April 2025 \nSpots are limited! Sign up now and Take The First Step Towards A Healthier Positive Relationship! \nRegister Now
URL:https://trulyalivefoundation.org/event/be-the-program/2025-02-10/
LOCATION:Multiple Locations\, Multiple Locations\, Saskatoon\, Canada
ATTACH;FMTTYPE=image/png:https://trulyalivefoundation.org/wp-content/uploads/2025/02/Be-The-Program-Promotional-Poster.png
END:VEVENT
END:VCALENDAR