BEGIN:VCALENDAR
VERSION:2.0
PRODID:-//Truly Alive Youth and Family Foundation - ECPv6.15.17.1//NONSGML v1.0//EN
CALSCALE:GREGORIAN
METHOD:PUBLISH
X-WR-CALNAME:Truly Alive Youth and Family Foundation
X-ORIGINAL-URL:https://trulyalivefoundation.org
X-WR-CALDESC:Events for Truly Alive Youth and Family Foundation
REFRESH-INTERVAL;VALUE=DURATION:PT1H
X-Robots-Tag:noindex
X-PUBLISHED-TTL:PT1H
BEGIN:VTIMEZONE
TZID:America/Regina
BEGIN:STANDARD
TZOFFSETFROM:-0600
TZOFFSETTO:-0600
TZNAME:CST
DTSTART:20240101T000000
END:STANDARD
END:VTIMEZONE
BEGIN:VEVENT
DTSTART;TZID=America/Regina:20250528T173000
DTEND;TZID=America/Regina:20250528T193000
DTSTAMP:20260420T093202
CREATED:20250404T214252Z
LAST-MODIFIED:20250912T230237Z
UID:10000241-1748453400-1748460600@trulyalivefoundation.org
SUMMARY:English for Academic Success Youth Program
DESCRIPTION:Truly Alive Youth and Family Foundation Inc. (TAYFFI) is excited to launch its Future Talent English for Academic Success Youth Program!  \n This is an 8-week hybrid program designed to help newcomer youth strengthen their English Language Proficiency skills and master Duolingo English Proficiency Test for post-secondary educational pursuit and academic success. \n What You’ll Gain: \nTips on how to improve your English Language Speaking\, Listening\, Writing & Reading skills. \nExpert strategies and hands-on preparatory training on how you can Ace the Duolingo English Proficiency Test  \nAcademic and Career success action planning support  \nProgram Details: \nDate: April 11 – May 28\, 2025 \nTime: 5:30 PM – 7:30 PM \nLocation: 3-320 Jessop Avenue \nDelivery Method: Hybrid (In-person & Virtual) \n Spots are limited—sign up today and take the next step toward your future! \n To register please click here  \n For more information\, please reach out to the coordinator.sls@trulyalivefoundation.org  \n This program is made possible through the Rogers Youth Grant!
URL:https://trulyalivefoundation.org/event/english-for-academic-success-youth-program-2025-05-23/2025-05-28/
LOCATION:Hybrid (Online and In-person)\, 3-320 Jessop Avenue\, Saskatoon\, Canada
CATEGORIES:all_event,Youth Empowerment
ATTACH;FMTTYPE=image/png:https://trulyalivefoundation.org/wp-content/uploads/2025/04/Future-Talent-Youth-Program.png
END:VEVENT
BEGIN:VEVENT
DTSTART;TZID=America/Regina:20250523T173000
DTEND;TZID=America/Regina:20250523T193000
DTSTAMP:20260420T093202
CREATED:20250404T214252Z
LAST-MODIFIED:20250912T230237Z
UID:10000127-1748021400-1748028600@trulyalivefoundation.org
SUMMARY:English for Academic Success Youth Program
DESCRIPTION:Truly Alive Youth and Family Foundation Inc. (TAYFFI) is excited to launch its Future Talent English for Academic Success Youth Program!  \n This is an 8-week hybrid program designed to help newcomer youth strengthen their English Language Proficiency skills and master Duolingo English Proficiency Test for post-secondary educational pursuit and academic success. \n What You’ll Gain: \nTips on how to improve your English Language Speaking\, Listening\, Writing & Reading skills. \nExpert strategies and hands-on preparatory training on how you can Ace the Duolingo English Proficiency Test  \nAcademic and Career success action planning support  \nProgram Details: \nDate: April 11 – May 28\, 2025 \nTime: 5:30 PM – 7:30 PM \nLocation: 3-320 Jessop Avenue \nDelivery Method: Hybrid (In-person & Virtual) \n Spots are limited—sign up today and take the next step toward your future! \n To register please click here  \n For more information\, please reach out to the coordinator.sls@trulyalivefoundation.org  \n This program is made possible through the Rogers Youth Grant!
URL:https://trulyalivefoundation.org/event/english-for-academic-success-youth-program-2025-05-23/2025-05-23/
LOCATION:Hybrid (Online and In-person)\, 3-320 Jessop Avenue\, Saskatoon\, Canada
CATEGORIES:all_event,Youth Empowerment
ATTACH;FMTTYPE=image/png:https://trulyalivefoundation.org/wp-content/uploads/2025/04/Future-Talent-Youth-Program.png
END:VEVENT
BEGIN:VEVENT
DTSTART;TZID=America/Regina:20250519T173000
DTEND;TZID=America/Regina:20250519T193000
DTSTAMP:20260420T093202
CREATED:20250404T214252Z
LAST-MODIFIED:20251008T042506Z
UID:10000126-1747675800-1747683000@trulyalivefoundation.org
SUMMARY:English for Academic Success Youth Program
DESCRIPTION:Truly Alive Youth and Family Foundation Inc. (TAYFFI) is excited to launch its Future Talent English for Academic Success Youth Program!  \n This is an 8-week hybrid program designed to help newcomer youth strengthen their English Language Proficiency skills and master Duolingo English Proficiency Test for post-secondary educational pursuit and academic success. \n What You’ll Gain: \nTips on how to improve your English Language Speaking\, Listening\, Writing & Reading skills. \nExpert strategies and hands-on preparatory training on how you can Ace the Duolingo English Proficiency Test  \nAcademic and Career success action planning support  \nProgram Details: \nDate: April 11 – May 28\, 2025 \nTime: 5:30 PM – 7:30 PM \nLocation: 3-320 Jessop Avenue \nDelivery Method: Hybrid (In-person & Virtual) \n Spots are limited—sign up today and take the next step toward your future! \n To register please click here  \n For more information\, please reach out to the coordinator.sls@trulyalivefoundation.org  \n This program is made possible through the Rogers Youth Grant!
URL:https://trulyalivefoundation.org/event/english-for-academic-success-youth-program/2025-05-19/
LOCATION:Hybrid (Online and In-person)\, 3-320 Jessop Avenue\, Saskatoon\, Canada
CATEGORIES:all_event,Youth Empowerment
ATTACH;FMTTYPE=image/png:https://trulyalivefoundation.org/wp-content/uploads/2025/04/Future-Talent-Youth-Program.png
END:VEVENT
BEGIN:VEVENT
DTSTART;TZID=America/Regina:20250509T173000
DTEND;TZID=America/Regina:20250509T193000
DTSTAMP:20260420T093202
CREATED:20250404T214252Z
LAST-MODIFIED:20251008T042506Z
UID:10000125-1746811800-1746819000@trulyalivefoundation.org
SUMMARY:English for Academic Success Youth Program
DESCRIPTION:Truly Alive Youth and Family Foundation Inc. (TAYFFI) is excited to launch its Future Talent English for Academic Success Youth Program!  \n This is an 8-week hybrid program designed to help newcomer youth strengthen their English Language Proficiency skills and master Duolingo English Proficiency Test for post-secondary educational pursuit and academic success. \n What You’ll Gain: \nTips on how to improve your English Language Speaking\, Listening\, Writing & Reading skills. \nExpert strategies and hands-on preparatory training on how you can Ace the Duolingo English Proficiency Test  \nAcademic and Career success action planning support  \nProgram Details: \nDate: April 11 – May 28\, 2025 \nTime: 5:30 PM – 7:30 PM \nLocation: 3-320 Jessop Avenue \nDelivery Method: Hybrid (In-person & Virtual) \n Spots are limited—sign up today and take the next step toward your future! \n To register please click here  \n For more information\, please reach out to the coordinator.sls@trulyalivefoundation.org  \n This program is made possible through the Rogers Youth Grant!
URL:https://trulyalivefoundation.org/event/english-for-academic-success-youth-program/2025-05-09/
LOCATION:Hybrid (Online and In-person)\, 3-320 Jessop Avenue\, Saskatoon\, Canada
CATEGORIES:all_event,Youth Empowerment
ATTACH;FMTTYPE=image/png:https://trulyalivefoundation.org/wp-content/uploads/2025/04/Future-Talent-Youth-Program.png
END:VEVENT
BEGIN:VEVENT
DTSTART;TZID=America/Regina:20250505T173000
DTEND;TZID=America/Regina:20250505T193000
DTSTAMP:20260420T093202
CREATED:20250404T214252Z
LAST-MODIFIED:20251008T042506Z
UID:10000124-1746466200-1746473400@trulyalivefoundation.org
SUMMARY:English for Academic Success Youth Program
DESCRIPTION:Truly Alive Youth and Family Foundation Inc. (TAYFFI) is excited to launch its Future Talent English for Academic Success Youth Program!  \n This is an 8-week hybrid program designed to help newcomer youth strengthen their English Language Proficiency skills and master Duolingo English Proficiency Test for post-secondary educational pursuit and academic success. \n What You’ll Gain: \nTips on how to improve your English Language Speaking\, Listening\, Writing & Reading skills. \nExpert strategies and hands-on preparatory training on how you can Ace the Duolingo English Proficiency Test  \nAcademic and Career success action planning support  \nProgram Details: \nDate: April 11 – May 28\, 2025 \nTime: 5:30 PM – 7:30 PM \nLocation: 3-320 Jessop Avenue \nDelivery Method: Hybrid (In-person & Virtual) \n Spots are limited—sign up today and take the next step toward your future! \n To register please click here  \n For more information\, please reach out to the coordinator.sls@trulyalivefoundation.org  \n This program is made possible through the Rogers Youth Grant!
URL:https://trulyalivefoundation.org/event/english-for-academic-success-youth-program/2025-05-05/
LOCATION:Hybrid (Online and In-person)\, 3-320 Jessop Avenue\, Saskatoon\, Canada
CATEGORIES:all_event,Youth Empowerment
ATTACH;FMTTYPE=image/png:https://trulyalivefoundation.org/wp-content/uploads/2025/04/Future-Talent-Youth-Program.png
END:VEVENT
BEGIN:VEVENT
DTSTART;TZID=America/Regina:20250425T173000
DTEND;TZID=America/Regina:20250425T193000
DTSTAMP:20260420T093202
CREATED:20250404T214252Z
LAST-MODIFIED:20251008T042506Z
UID:10000123-1745602200-1745609400@trulyalivefoundation.org
SUMMARY:English for Academic Success Youth Program
DESCRIPTION:Truly Alive Youth and Family Foundation Inc. (TAYFFI) is excited to launch its Future Talent English for Academic Success Youth Program!  \n This is an 8-week hybrid program designed to help newcomer youth strengthen their English Language Proficiency skills and master Duolingo English Proficiency Test for post-secondary educational pursuit and academic success. \n What You’ll Gain: \nTips on how to improve your English Language Speaking\, Listening\, Writing & Reading skills. \nExpert strategies and hands-on preparatory training on how you can Ace the Duolingo English Proficiency Test  \nAcademic and Career success action planning support  \nProgram Details: \nDate: April 11 – May 28\, 2025 \nTime: 5:30 PM – 7:30 PM \nLocation: 3-320 Jessop Avenue \nDelivery Method: Hybrid (In-person & Virtual) \n Spots are limited—sign up today and take the next step toward your future! \n To register please click here  \n For more information\, please reach out to the coordinator.sls@trulyalivefoundation.org  \n This program is made possible through the Rogers Youth Grant!
URL:https://trulyalivefoundation.org/event/english-for-academic-success-youth-program/2025-04-25/
LOCATION:Hybrid (Online and In-person)\, 3-320 Jessop Avenue\, Saskatoon\, Canada
CATEGORIES:all_event,Youth Empowerment
ATTACH;FMTTYPE=image/png:https://trulyalivefoundation.org/wp-content/uploads/2025/04/Future-Talent-Youth-Program.png
END:VEVENT
BEGIN:VEVENT
DTSTART;TZID=America/Regina:20250421T173000
DTEND;TZID=America/Regina:20250421T193000
DTSTAMP:20260420T093202
CREATED:20250404T214252Z
LAST-MODIFIED:20251008T042506Z
UID:10000122-1745256600-1745263800@trulyalivefoundation.org
SUMMARY:English for Academic Success Youth Program
DESCRIPTION:Truly Alive Youth and Family Foundation Inc. (TAYFFI) is excited to launch its Future Talent English for Academic Success Youth Program!  \n This is an 8-week hybrid program designed to help newcomer youth strengthen their English Language Proficiency skills and master Duolingo English Proficiency Test for post-secondary educational pursuit and academic success. \n What You’ll Gain: \nTips on how to improve your English Language Speaking\, Listening\, Writing & Reading skills. \nExpert strategies and hands-on preparatory training on how you can Ace the Duolingo English Proficiency Test  \nAcademic and Career success action planning support  \nProgram Details: \nDate: April 11 – May 28\, 2025 \nTime: 5:30 PM – 7:30 PM \nLocation: 3-320 Jessop Avenue \nDelivery Method: Hybrid (In-person & Virtual) \n Spots are limited—sign up today and take the next step toward your future! \n To register please click here  \n For more information\, please reach out to the coordinator.sls@trulyalivefoundation.org  \n This program is made possible through the Rogers Youth Grant!
URL:https://trulyalivefoundation.org/event/english-for-academic-success-youth-program/2025-04-21/
LOCATION:Hybrid (Online and In-person)\, 3-320 Jessop Avenue\, Saskatoon\, Canada
CATEGORIES:all_event,Youth Empowerment
ATTACH;FMTTYPE=image/png:https://trulyalivefoundation.org/wp-content/uploads/2025/04/Future-Talent-Youth-Program.png
END:VEVENT
BEGIN:VEVENT
DTSTART;TZID=America/Regina:20250411T173000
DTEND;TZID=America/Regina:20250411T193000
DTSTAMP:20260420T093202
CREATED:20250404T214252Z
LAST-MODIFIED:20251008T042506Z
UID:10000121-1744392600-1744399800@trulyalivefoundation.org
SUMMARY:English for Academic Success Youth Program
DESCRIPTION:Truly Alive Youth and Family Foundation Inc. (TAYFFI) is excited to launch its Future Talent English for Academic Success Youth Program!  \n This is an 8-week hybrid program designed to help newcomer youth strengthen their English Language Proficiency skills and master Duolingo English Proficiency Test for post-secondary educational pursuit and academic success. \n What You’ll Gain: \nTips on how to improve your English Language Speaking\, Listening\, Writing & Reading skills. \nExpert strategies and hands-on preparatory training on how you can Ace the Duolingo English Proficiency Test  \nAcademic and Career success action planning support  \nProgram Details: \nDate: April 11 – May 28\, 2025 \nTime: 5:30 PM – 7:30 PM \nLocation: 3-320 Jessop Avenue \nDelivery Method: Hybrid (In-person & Virtual) \n Spots are limited—sign up today and take the next step toward your future! \n To register please click here  \n For more information\, please reach out to the coordinator.sls@trulyalivefoundation.org  \n This program is made possible through the Rogers Youth Grant!
URL:https://trulyalivefoundation.org/event/english-for-academic-success-youth-program/2025-04-11/
LOCATION:Hybrid (Online and In-person)\, 3-320 Jessop Avenue\, Saskatoon\, Canada
CATEGORIES:all_event,Youth Empowerment
ATTACH;FMTTYPE=image/png:https://trulyalivefoundation.org/wp-content/uploads/2025/04/Future-Talent-Youth-Program.png
END:VEVENT
END:VCALENDAR