BEGIN:VCALENDAR
VERSION:2.0
PRODID:-//Truly Alive Youth and Family Foundation - ECPv6.15.17.1//NONSGML v1.0//EN
CALSCALE:GREGORIAN
METHOD:PUBLISH
X-ORIGINAL-URL:https://trulyalivefoundation.org
X-WR-CALDESC:Events for Truly Alive Youth and Family Foundation
REFRESH-INTERVAL;VALUE=DURATION:PT1H
X-Robots-Tag:noindex
X-PUBLISHED-TTL:PT1H
BEGIN:VTIMEZONE
TZID:America/Regina
BEGIN:STANDARD
TZOFFSETFROM:-0600
TZOFFSETTO:-0600
TZNAME:CST
DTSTART:20230101T000000
END:STANDARD
END:VTIMEZONE
BEGIN:VTIMEZONE
TZID:UTC
BEGIN:STANDARD
TZOFFSETFROM:+0000
TZOFFSETTO:+0000
TZNAME:UTC
DTSTART:20230101T000000
END:STANDARD
END:VTIMEZONE
BEGIN:VEVENT
DTSTART;TZID=America/Regina:20240923T170000
DTEND;TZID=America/Regina:20240923T193000
DTSTAMP:20260420T233417
CREATED:20240926T233844Z
LAST-MODIFIED:20241014T134637Z
UID:10000009-1727110800-1727119800@trulyalivefoundation.org
SUMMARY:Women Empowerment Program
DESCRIPTION:Are you ready to stand tall\, break barriers\, and combat racism and discrimination? \nJoin us for a powerful 10-day Women Empowerment Workshop Series focused on supporting Black\, Indigenous\, and People of Color (BIPOC) women! \nWhether you’re new to the country or looking for a community of strong women\, this is your chance to make your voice heard and be part of something incredible!’ \nDr. Fatima Coovadia will lead an inspiring presentation\, sharing valuable insights and strategies to fight injustice\, lift each other up\, and create lasting change. \nWorkshop Dates: Monday\, Sept. 23 to Monday\, Nov. 25 | 5:00PM – 7:30PM \nDon’t miss this opportunity to learn\, connect\, and grow with other amazing women! Together\, we can create change! To Register\, please email us at familysupport@trulyalivefoundation.org or call 306-986-5341\nProudly supported by SaskCulture Inc
URL:https://trulyalivefoundation.org/event/women-empowerment-program/2024-09-23/
LOCATION:3-320 Jessop Avenue Saskatoon SK S7N 1Y6\, 3-320 Jessop Avenue\, Saskatoon\, Saskatchewan\, Canada
CATEGORIES:all_event,Training,Women Empowerment
ATTACH;FMTTYPE=image/webp:https://trulyalivefoundation.org/wp-content/uploads/2024/09/Women-Empowerment-Series-.webp
END:VEVENT
BEGIN:VEVENT
DTSTART;TZID=UTC:20240816T130000
DTEND;TZID=UTC:20240816T150000
DTSTAMP:20260420T233417
CREATED:20241002T165211Z
LAST-MODIFIED:20241017T143907Z
UID:10000027-1723813200-1723820400@trulyalivefoundation.org
SUMMARY:Leadership Lab
DESCRIPTION:Are you a youth aspiring to become tomorrow’s leader?\n\n\nJoin our Leadership Lab to gain invaluable skills\, make friend and create positive impact in your community. Over the course of our engaging sessions\, you will:\n\n\n\nDevelop Leadership Skills: Enhance your abilities in teamwork and problem-solving.\nPractice Public Speaking: Build confidence and articulate your ideas effectively.\nConnect with Community Leaders: Meet inspiring leaders and gain insights from their experiences.\nParticipate in Mentorship: Benefit from guidance and support from experienced mentors.\nEngage in a Project: Apply your skills in a hands-on project that will challenge and inspire you.\n\n\n\nDate: August 16\, 2024\nTime: 1:00 pm – 3:00 pm\nLocation: TAYFFI’s Office\nMethod of Delivery: In-person\n\n\n\nThis is a unique opportunity to develop leadership skills and connect with like-minded peers. Don’t miss out—become a leader of tomorrow today.\n\n\nTo register or learn more\, please email us at: coordinator.sls@trulyalivefoundation.org
URL:https://trulyalivefoundation.org/event/leadership-lab/
LOCATION:3-320 Jessop Avenue Saskatoon SK S7N 1Y6\, 3-320 Jessop Avenue\, Saskatoon\, Saskatchewan\, Canada
CATEGORIES:Training
ATTACH;FMTTYPE=image/jpeg:https://trulyalivefoundation.org/wp-content/uploads/2024/10/leadership-Lab.jpg
ORGANIZER;CN="TAYYFI":MAILTO:coordinator.sls@trulyalivefoundation.org
END:VEVENT
END:VCALENDAR