BEGIN:VCALENDAR
VERSION:2.0
PRODID:-//Truly Alive Youth and Family Foundation - ECPv6.15.17.1//NONSGML v1.0//EN
CALSCALE:GREGORIAN
METHOD:PUBLISH
X-ORIGINAL-URL:https://trulyalivefoundation.org
X-WR-CALDESC:Events for Truly Alive Youth and Family Foundation
REFRESH-INTERVAL;VALUE=DURATION:PT1H
X-Robots-Tag:noindex
X-PUBLISHED-TTL:PT1H
BEGIN:VTIMEZONE
TZID:America/Chicago
BEGIN:DAYLIGHT
TZOFFSETFROM:-0600
TZOFFSETTO:-0500
TZNAME:CDT
DTSTART:20250309T080000
END:DAYLIGHT
BEGIN:STANDARD
TZOFFSETFROM:-0500
TZOFFSETTO:-0600
TZNAME:CST
DTSTART:20251102T070000
END:STANDARD
BEGIN:DAYLIGHT
TZOFFSETFROM:-0600
TZOFFSETTO:-0500
TZNAME:CDT
DTSTART:20260308T080000
END:DAYLIGHT
BEGIN:STANDARD
TZOFFSETFROM:-0500
TZOFFSETTO:-0600
TZNAME:CST
DTSTART:20261101T070000
END:STANDARD
BEGIN:DAYLIGHT
TZOFFSETFROM:-0600
TZOFFSETTO:-0500
TZNAME:CDT
DTSTART:20270314T080000
END:DAYLIGHT
BEGIN:STANDARD
TZOFFSETFROM:-0500
TZOFFSETTO:-0600
TZNAME:CST
DTSTART:20271107T070000
END:STANDARD
END:VTIMEZONE
BEGIN:VEVENT
DTSTART;TZID=America/Chicago:20260430T170000
DTEND;TZID=America/Chicago:20260613T190000
DTSTAMP:20260420T102702
CREATED:20260420T141735Z
LAST-MODIFIED:20260420T141735Z
UID:10001609-1777568400-1781377200@trulyalivefoundation.org
SUMMARY:Skills Unplugged Youth Empowerment Training
DESCRIPTION:Ready to start a business\, level up your skills\, and get certified—for free? \nThe Truly Alive Youth and Family Foundation Inc.\, in partnership with the RBC and CIBC\, is proud to launch a new intake for the Skills Unplugged Youth Empowerment Training Program. \nThis program is designed for youth ages 20 to 29 years from Black and Racialized communities who are seeking to strengthen their career pathways and gain practical\, in-demand skills. \n  \nWhen:                              Apr 30\, 2026 to Jun 13\, 2026 \nDays and Time:            Thursdays | 5:00pm – 7:00pm \n                                          Saturdays | 1:00pm – 3:00pm \nParticipants will benefit from a comprehensive learning experience that includes: \n\nEntrepreneurship and startup development\nDigital literacy and workplace productivity tools\nFinancial literacy and investment fundamentals\nPeer-to-peer mentorship and industry exposure\n\nIn addition\, participants will receive support to earn a fully funded certification or licensure aligned with their career goals. \nApply now using the link: Skills Unplugged Youth Empowerment Training – Fill out form \n In case you have any questions or need more information reach us through the email students.support@trulyalivefoundation.org
URL:https://trulyalivefoundation.org/event/skills-unplugged-youth-empowerment-training-3/
CATEGORIES:Announcement
ATTACH;FMTTYPE=image/png:https://trulyalivefoundation.org/wp-content/uploads/2026/04/Skills-Unplugged-e1776693738977.png
END:VEVENT
BEGIN:VEVENT
DTSTART;TZID=America/Chicago:20260502T130000
DTEND;TZID=America/Chicago:20260502T150000
DTSTAMP:20260420T102702
CREATED:20260420T141308Z
LAST-MODIFIED:20260420T141308Z
UID:10001602-1777726800-1777734000@trulyalivefoundation.org
SUMMARY:Skills Unplugged Youth Empowerment Training
DESCRIPTION:Ready to start a business\, level up your skills\, and get certified—for free? \nThe Truly Alive Youth and Family Foundation Inc.\, in partnership with the RBC and CIBC\, is proud to launch a new intake for the Skills Unplugged Youth Empowerment Training Program. \nThis program is designed for youth ages 20 to 29 years from Black and Racialized communities who are seeking to strengthen their career pathways and gain practical\, in-demand skills. \n  \nWhen:                              Apr 30\, 2026 to Jun 13\, 2026 \nDays and Time:            Thursdays | 5:00pm – 7:00pm \n                                          Saturdays | 1:00pm – 3:00pm \nParticipants will benefit from a comprehensive learning experience that includes: \n\nEntrepreneurship and startup development\nDigital literacy and workplace productivity tools\nFinancial literacy and investment fundamentals\nPeer-to-peer mentorship and industry exposure\n\nIn addition\, participants will receive support to earn a fully funded certification or licensure aligned with their career goals. \nApply now using the link: Skills Unplugged Youth Empowerment Training – Fill out form \n In case you have any questions or need more information reach us through the email students.support@trulyalivefoundation.org
URL:https://trulyalivefoundation.org/event/skills-unplugged-youth-empowerment-training-2/2026-05-02/
CATEGORIES:all_event,Training
ATTACH;FMTTYPE=image/png:https://trulyalivefoundation.org/wp-content/uploads/2026/04/Skills-Unplugged-e1776693738977.png
END:VEVENT
BEGIN:VEVENT
DTSTART;TZID=America/Chicago:20260504T100000
DTEND;TZID=America/Chicago:20260504T113000
DTSTAMP:20260420T102703
CREATED:20260403T180349Z
LAST-MODIFIED:20260403T181305Z
UID:10001557-1777888800-1777894200@trulyalivefoundation.org
SUMMARY:Intersectoral Consultation on Black Legal Clinic – SAISIA and Members
DESCRIPTION:Truly Alive Youth and Family Foundation Inc. (TAYFFI) in collaboration with Saskatchewan Association of Immigrant Settlement and Integration Agencies (SAISIA) is hosting an intersectoral consultation session to introduce Saskatchewan’s first-ever Black Legal Clinic – a community justice service initiative for Black adults (18+) actively navigating the Justice system. \nDate: Monday May 4 2026 \nTime: 10:00am – 11:30am \nDelivery: Virtual via Zoom \nRegister Here: Intersectoral Consultation– Fill out form \nThis session is designed to introduce TAYFFI’s Black Legal Clinic to community members\, prospective partners\, and stakeholders across humanities and immigrant-serving sector. Through dialogue\, reflection\, and knowledge sharing\, the consultation session aims to move beyond awareness toward practical solutions that strengthen community safety\, healing\, and prevention. \nBy attending this session\, you will gain knowledge on different services available through TAYFFI’s Access to Justice Program such as: \n\nSupport for individuals actively navigating the court system through the Black Legal Clinic.\nRehabilitation programs for incarcerated individuals to avoid recidivism.\nAvailable Afrocentric counselling and psychosocial support for individuals in correctional facilities.\nRe-integration programs and support with reconnecting to the community\, finding jobs\, mental health\, and social services.\nRelevant community resources including cultural brokerage\, family dialogue\, e.t.c.\nOther services and programs offered at TAYFFI.\n\nFor further information about this consultation engagement and other service offerings available at Truly Alive Youth and Family Foundation Inc\, please send an email to: culturalbroker@trulyalivefoundation.org  or call: 306-986-5341
URL:https://trulyalivefoundation.org/event/intersectoral-consultation-on-black-legal-clinic-saisia-and-members/
CATEGORIES:all_event,Announcement,Training
ATTACH;FMTTYPE=image/jpeg:https://trulyalivefoundation.org/wp-content/uploads/2026/04/Intersectoral-Consultation_SAISIA-e1775239692906.jpg
END:VEVENT
BEGIN:VEVENT
DTSTART;TZID=America/Chicago:20260507T170000
DTEND;TZID=America/Chicago:20260507T190000
DTSTAMP:20260420T102703
CREATED:20260420T140106Z
LAST-MODIFIED:20260420T141420Z
UID:10001590-1778173200-1778180400@trulyalivefoundation.org
SUMMARY:Skills Unplugged Youth Empowerment Training
DESCRIPTION:Ready to start a business\, level up your skills\, and get certified—for free? \nThe Truly Alive Youth and Family Foundation Inc.\, in partnership with the RBC and CIBC\, is proud to launch a new intake for the Skills Unplugged Youth Empowerment Training Program. \nThis program is designed for youth ages 20 to 29 years from Black and Racialized communities who are seeking to strengthen their career pathways and gain practical\, in-demand skills. \n  \nWhen:                              Apr 30\, 2026 to Jun 13\, 2026 \nDays and Time:            Thursdays | 5:00pm – 7:00pm \n                                          Saturdays | 1:00pm – 3:00pm \nParticipants will benefit from a comprehensive learning experience that includes: \n\nEntrepreneurship and startup development\nDigital literacy and workplace productivity tools\nFinancial literacy and investment fundamentals\nPeer-to-peer mentorship and industry exposure\n\nIn addition\, participants will receive support to earn a fully funded certification or licensure aligned with their career goals. \nApply now using the link: Skills Unplugged Youth Empowerment Training – Fill out form \n In case you have any questions or need more information reach us through the email students.support@trulyalivefoundation.org
URL:https://trulyalivefoundation.org/event/skills-unplugged-youth-empowerment-training/2026-05-07/
CATEGORIES:all_event,Training
ATTACH;FMTTYPE=image/png:https://trulyalivefoundation.org/wp-content/uploads/2026/04/Skills-Unplugged-e1776693738977.png
END:VEVENT
BEGIN:VEVENT
DTSTART;TZID=America/Chicago:20260509T130000
DTEND;TZID=America/Chicago:20260509T150000
DTSTAMP:20260420T102703
CREATED:20260420T141308Z
LAST-MODIFIED:20260420T141308Z
UID:10001603-1778331600-1778338800@trulyalivefoundation.org
SUMMARY:Skills Unplugged Youth Empowerment Training
DESCRIPTION:Ready to start a business\, level up your skills\, and get certified—for free? \nThe Truly Alive Youth and Family Foundation Inc.\, in partnership with the RBC and CIBC\, is proud to launch a new intake for the Skills Unplugged Youth Empowerment Training Program. \nThis program is designed for youth ages 20 to 29 years from Black and Racialized communities who are seeking to strengthen their career pathways and gain practical\, in-demand skills. \n  \nWhen:                              Apr 30\, 2026 to Jun 13\, 2026 \nDays and Time:            Thursdays | 5:00pm – 7:00pm \n                                          Saturdays | 1:00pm – 3:00pm \nParticipants will benefit from a comprehensive learning experience that includes: \n\nEntrepreneurship and startup development\nDigital literacy and workplace productivity tools\nFinancial literacy and investment fundamentals\nPeer-to-peer mentorship and industry exposure\n\nIn addition\, participants will receive support to earn a fully funded certification or licensure aligned with their career goals. \nApply now using the link: Skills Unplugged Youth Empowerment Training – Fill out form \n In case you have any questions or need more information reach us through the email students.support@trulyalivefoundation.org
URL:https://trulyalivefoundation.org/event/skills-unplugged-youth-empowerment-training-2/2026-05-09/
CATEGORIES:all_event,Training
ATTACH;FMTTYPE=image/png:https://trulyalivefoundation.org/wp-content/uploads/2026/04/Skills-Unplugged-e1776693738977.png
END:VEVENT
BEGIN:VEVENT
DTSTART;TZID=America/Chicago:20260514T170000
DTEND;TZID=America/Chicago:20260514T190000
DTSTAMP:20260420T102703
CREATED:20260420T140106Z
LAST-MODIFIED:20260420T141420Z
UID:10001592-1778778000-1778785200@trulyalivefoundation.org
SUMMARY:Skills Unplugged Youth Empowerment Training
DESCRIPTION:Ready to start a business\, level up your skills\, and get certified—for free? \nThe Truly Alive Youth and Family Foundation Inc.\, in partnership with the RBC and CIBC\, is proud to launch a new intake for the Skills Unplugged Youth Empowerment Training Program. \nThis program is designed for youth ages 20 to 29 years from Black and Racialized communities who are seeking to strengthen their career pathways and gain practical\, in-demand skills. \n  \nWhen:                              Apr 30\, 2026 to Jun 13\, 2026 \nDays and Time:            Thursdays | 5:00pm – 7:00pm \n                                          Saturdays | 1:00pm – 3:00pm \nParticipants will benefit from a comprehensive learning experience that includes: \n\nEntrepreneurship and startup development\nDigital literacy and workplace productivity tools\nFinancial literacy and investment fundamentals\nPeer-to-peer mentorship and industry exposure\n\nIn addition\, participants will receive support to earn a fully funded certification or licensure aligned with their career goals. \nApply now using the link: Skills Unplugged Youth Empowerment Training – Fill out form \n In case you have any questions or need more information reach us through the email students.support@trulyalivefoundation.org
URL:https://trulyalivefoundation.org/event/skills-unplugged-youth-empowerment-training/2026-05-14/
CATEGORIES:all_event,Training
ATTACH;FMTTYPE=image/png:https://trulyalivefoundation.org/wp-content/uploads/2026/04/Skills-Unplugged-e1776693738977.png
END:VEVENT
BEGIN:VEVENT
DTSTART;TZID=America/Chicago:20260516T130000
DTEND;TZID=America/Chicago:20260516T150000
DTSTAMP:20260420T102703
CREATED:20260420T141308Z
LAST-MODIFIED:20260420T141308Z
UID:10001604-1778936400-1778943600@trulyalivefoundation.org
SUMMARY:Skills Unplugged Youth Empowerment Training
DESCRIPTION:Ready to start a business\, level up your skills\, and get certified—for free? \nThe Truly Alive Youth and Family Foundation Inc.\, in partnership with the RBC and CIBC\, is proud to launch a new intake for the Skills Unplugged Youth Empowerment Training Program. \nThis program is designed for youth ages 20 to 29 years from Black and Racialized communities who are seeking to strengthen their career pathways and gain practical\, in-demand skills. \n  \nWhen:                              Apr 30\, 2026 to Jun 13\, 2026 \nDays and Time:            Thursdays | 5:00pm – 7:00pm \n                                          Saturdays | 1:00pm – 3:00pm \nParticipants will benefit from a comprehensive learning experience that includes: \n\nEntrepreneurship and startup development\nDigital literacy and workplace productivity tools\nFinancial literacy and investment fundamentals\nPeer-to-peer mentorship and industry exposure\n\nIn addition\, participants will receive support to earn a fully funded certification or licensure aligned with their career goals. \nApply now using the link: Skills Unplugged Youth Empowerment Training – Fill out form \n In case you have any questions or need more information reach us through the email students.support@trulyalivefoundation.org
URL:https://trulyalivefoundation.org/event/skills-unplugged-youth-empowerment-training-2/2026-05-16/
CATEGORIES:all_event,Training
ATTACH;FMTTYPE=image/png:https://trulyalivefoundation.org/wp-content/uploads/2026/04/Skills-Unplugged-e1776693738977.png
END:VEVENT
BEGIN:VEVENT
DTSTART;TZID=America/Chicago:20260521T170000
DTEND;TZID=America/Chicago:20260521T190000
DTSTAMP:20260420T102703
CREATED:20260420T140106Z
LAST-MODIFIED:20260420T141420Z
UID:10001594-1779382800-1779390000@trulyalivefoundation.org
SUMMARY:Skills Unplugged Youth Empowerment Training
DESCRIPTION:Ready to start a business\, level up your skills\, and get certified—for free? \nThe Truly Alive Youth and Family Foundation Inc.\, in partnership with the RBC and CIBC\, is proud to launch a new intake for the Skills Unplugged Youth Empowerment Training Program. \nThis program is designed for youth ages 20 to 29 years from Black and Racialized communities who are seeking to strengthen their career pathways and gain practical\, in-demand skills. \n  \nWhen:                              Apr 30\, 2026 to Jun 13\, 2026 \nDays and Time:            Thursdays | 5:00pm – 7:00pm \n                                          Saturdays | 1:00pm – 3:00pm \nParticipants will benefit from a comprehensive learning experience that includes: \n\nEntrepreneurship and startup development\nDigital literacy and workplace productivity tools\nFinancial literacy and investment fundamentals\nPeer-to-peer mentorship and industry exposure\n\nIn addition\, participants will receive support to earn a fully funded certification or licensure aligned with their career goals. \nApply now using the link: Skills Unplugged Youth Empowerment Training – Fill out form \n In case you have any questions or need more information reach us through the email students.support@trulyalivefoundation.org
URL:https://trulyalivefoundation.org/event/skills-unplugged-youth-empowerment-training/2026-05-21/
CATEGORIES:all_event,Training
ATTACH;FMTTYPE=image/png:https://trulyalivefoundation.org/wp-content/uploads/2026/04/Skills-Unplugged-e1776693738977.png
END:VEVENT
BEGIN:VEVENT
DTSTART;TZID=America/Chicago:20260523T130000
DTEND;TZID=America/Chicago:20260523T150000
DTSTAMP:20260420T102703
CREATED:20260420T141308Z
LAST-MODIFIED:20260420T141308Z
UID:10001605-1779541200-1779548400@trulyalivefoundation.org
SUMMARY:Skills Unplugged Youth Empowerment Training
DESCRIPTION:Ready to start a business\, level up your skills\, and get certified—for free? \nThe Truly Alive Youth and Family Foundation Inc.\, in partnership with the RBC and CIBC\, is proud to launch a new intake for the Skills Unplugged Youth Empowerment Training Program. \nThis program is designed for youth ages 20 to 29 years from Black and Racialized communities who are seeking to strengthen their career pathways and gain practical\, in-demand skills. \n  \nWhen:                              Apr 30\, 2026 to Jun 13\, 2026 \nDays and Time:            Thursdays | 5:00pm – 7:00pm \n                                          Saturdays | 1:00pm – 3:00pm \nParticipants will benefit from a comprehensive learning experience that includes: \n\nEntrepreneurship and startup development\nDigital literacy and workplace productivity tools\nFinancial literacy and investment fundamentals\nPeer-to-peer mentorship and industry exposure\n\nIn addition\, participants will receive support to earn a fully funded certification or licensure aligned with their career goals. \nApply now using the link: Skills Unplugged Youth Empowerment Training – Fill out form \n In case you have any questions or need more information reach us through the email students.support@trulyalivefoundation.org
URL:https://trulyalivefoundation.org/event/skills-unplugged-youth-empowerment-training-2/2026-05-23/
CATEGORIES:all_event,Training
ATTACH;FMTTYPE=image/png:https://trulyalivefoundation.org/wp-content/uploads/2026/04/Skills-Unplugged-e1776693738977.png
END:VEVENT
BEGIN:VEVENT
DTSTART;TZID=America/Chicago:20260528T170000
DTEND;TZID=America/Chicago:20260528T190000
DTSTAMP:20260420T102703
CREATED:20260420T140106Z
LAST-MODIFIED:20260420T141420Z
UID:10001596-1779987600-1779994800@trulyalivefoundation.org
SUMMARY:Skills Unplugged Youth Empowerment Training
DESCRIPTION:Ready to start a business\, level up your skills\, and get certified—for free? \nThe Truly Alive Youth and Family Foundation Inc.\, in partnership with the RBC and CIBC\, is proud to launch a new intake for the Skills Unplugged Youth Empowerment Training Program. \nThis program is designed for youth ages 20 to 29 years from Black and Racialized communities who are seeking to strengthen their career pathways and gain practical\, in-demand skills. \n  \nWhen:                              Apr 30\, 2026 to Jun 13\, 2026 \nDays and Time:            Thursdays | 5:00pm – 7:00pm \n                                          Saturdays | 1:00pm – 3:00pm \nParticipants will benefit from a comprehensive learning experience that includes: \n\nEntrepreneurship and startup development\nDigital literacy and workplace productivity tools\nFinancial literacy and investment fundamentals\nPeer-to-peer mentorship and industry exposure\n\nIn addition\, participants will receive support to earn a fully funded certification or licensure aligned with their career goals. \nApply now using the link: Skills Unplugged Youth Empowerment Training – Fill out form \n In case you have any questions or need more information reach us through the email students.support@trulyalivefoundation.org
URL:https://trulyalivefoundation.org/event/skills-unplugged-youth-empowerment-training/2026-05-28/
CATEGORIES:all_event,Training
ATTACH;FMTTYPE=image/png:https://trulyalivefoundation.org/wp-content/uploads/2026/04/Skills-Unplugged-e1776693738977.png
END:VEVENT
BEGIN:VEVENT
DTSTART;TZID=America/Chicago:20260530T130000
DTEND;TZID=America/Chicago:20260530T150000
DTSTAMP:20260420T102703
CREATED:20260420T141308Z
LAST-MODIFIED:20260420T141308Z
UID:10001606-1780146000-1780153200@trulyalivefoundation.org
SUMMARY:Skills Unplugged Youth Empowerment Training
DESCRIPTION:Ready to start a business\, level up your skills\, and get certified—for free? \nThe Truly Alive Youth and Family Foundation Inc.\, in partnership with the RBC and CIBC\, is proud to launch a new intake for the Skills Unplugged Youth Empowerment Training Program. \nThis program is designed for youth ages 20 to 29 years from Black and Racialized communities who are seeking to strengthen their career pathways and gain practical\, in-demand skills. \n  \nWhen:                              Apr 30\, 2026 to Jun 13\, 2026 \nDays and Time:            Thursdays | 5:00pm – 7:00pm \n                                          Saturdays | 1:00pm – 3:00pm \nParticipants will benefit from a comprehensive learning experience that includes: \n\nEntrepreneurship and startup development\nDigital literacy and workplace productivity tools\nFinancial literacy and investment fundamentals\nPeer-to-peer mentorship and industry exposure\n\nIn addition\, participants will receive support to earn a fully funded certification or licensure aligned with their career goals. \nApply now using the link: Skills Unplugged Youth Empowerment Training – Fill out form \n In case you have any questions or need more information reach us through the email students.support@trulyalivefoundation.org
URL:https://trulyalivefoundation.org/event/skills-unplugged-youth-empowerment-training-2/2026-05-30/
CATEGORIES:all_event,Training
ATTACH;FMTTYPE=image/png:https://trulyalivefoundation.org/wp-content/uploads/2026/04/Skills-Unplugged-e1776693738977.png
END:VEVENT
END:VCALENDAR