BEGIN:VCALENDAR
VERSION:2.0
PRODID:-//Truly Alive Youth and Family Foundation - ECPv6.15.17.1//NONSGML v1.0//EN
CALSCALE:GREGORIAN
METHOD:PUBLISH
X-ORIGINAL-URL:https://trulyalivefoundation.org
X-WR-CALDESC:Events for Truly Alive Youth and Family Foundation
REFRESH-INTERVAL;VALUE=DURATION:PT1H
X-Robots-Tag:noindex
X-PUBLISHED-TTL:PT1H
BEGIN:VTIMEZONE
TZID:UTC
BEGIN:STANDARD
TZOFFSETFROM:+0000
TZOFFSETTO:+0000
TZNAME:UTC
DTSTART:20240101T000000
END:STANDARD
END:VTIMEZONE
BEGIN:VTIMEZONE
TZID:America/Chicago
BEGIN:DAYLIGHT
TZOFFSETFROM:-0600
TZOFFSETTO:-0500
TZNAME:CDT
DTSTART:20250309T080000
END:DAYLIGHT
BEGIN:STANDARD
TZOFFSETFROM:-0500
TZOFFSETTO:-0600
TZNAME:CST
DTSTART:20251102T070000
END:STANDARD
BEGIN:DAYLIGHT
TZOFFSETFROM:-0600
TZOFFSETTO:-0500
TZNAME:CDT
DTSTART:20260308T080000
END:DAYLIGHT
BEGIN:STANDARD
TZOFFSETFROM:-0500
TZOFFSETTO:-0600
TZNAME:CST
DTSTART:20261101T070000
END:STANDARD
BEGIN:DAYLIGHT
TZOFFSETFROM:-0600
TZOFFSETTO:-0500
TZNAME:CDT
DTSTART:20270314T080000
END:DAYLIGHT
BEGIN:STANDARD
TZOFFSETFROM:-0500
TZOFFSETTO:-0600
TZNAME:CST
DTSTART:20271107T070000
END:STANDARD
END:VTIMEZONE
BEGIN:VEVENT
DTSTART;TZID=UTC:20251001T080000
DTEND;TZID=UTC:20260301T170000
DTSTAMP:20260420T150529
CREATED:20251224T045733Z
LAST-MODIFIED:20260403T182835Z
UID:10000445-1759305600-1772384400@trulyalivefoundation.org
SUMMARY:Meet Your Mentor Youth Initiative Program
DESCRIPTION:Ready to take the next step in your career but don’t know where to start? \nThe Truly Alive Youth and Family Foundation Inc. (TAYFFI)\, in partnership with the Royal Bank of Canada (RBC)\, is launching the Meet Your Mentor program — an initiative designed to connect Black and racialized youth with industry-specific professionals who can provide mentorship\, job coaching\, and career guidance. \nThrough this program\, participants will gain access to valuable resources\, including: \n\nJob Readiness Training and On-the-Job Coaching\nIndustry-Specific Professional Mentorship\nPre-requisite Courses and College Preparation Support\nCareer Internship Placement Opportunities\nJob Search Strategies and Career Action Planning\n\n  \nDon’t miss this incredible opportunity to Meet Your Mentor — and receive in-person guidance to help you advance your career journey. \n  \nRegistration Link:  https://forms.office.com/r/WmJxv1gjfa \n  \nFor more information or in case you have any questions or concerns\, please contact   students.support@trulyalivefoundation.org \n  \n 
URL:https://trulyalivefoundation.org/event/meet-your-mentor-youth-initiative-program/
CATEGORIES:all_event,Training
ATTACH;FMTTYPE=image/png:https://trulyalivefoundation.org/wp-content/uploads/2025/12/Meet-Your-Mentor-Youth-Initiative-1-e1766530513888.png
END:VEVENT
BEGIN:VEVENT
DTSTART;TZID=America/Chicago:20260206T180000
DTEND;TZID=America/Chicago:20260206T193000
DTSTAMP:20260420T150529
CREATED:20260203T125955Z
LAST-MODIFIED:20260403T182524Z
UID:10001554-1770400800-1770406200@trulyalivefoundation.org
SUMMARY:Legal Information Series - February 2026
DESCRIPTION:As part of our Legal Information series\, we are pleased to invite you the February 2026 edition focusing on Criminal Law in Canada. \nIncrease your knowledge by participating in our FREE Legal Information Webinar hosted by Truly Alive Youth and Family Foundation Inc under the auspices of its Access to Justice for Black Communities initiative. \n\n\nDate: Friday\, February 6th\, 2026\nWebinar Topic: Understanding Canadian Criminal Law\nTime: 6:00 p.m. – 7:30 p.m.\nWhere: Zoom Webinar\nPresenter: Barrister Kolade Oladokun / Accord Attorneys and Solicitors\n\n👉 Haven’t registered yet?  Click here to sign up: Black Access to Justice – Legal Information series February – Fill out form\n\nThis FREE session is designed to connect Black Canadians in Saskatchewan with the legal insights and resources they need to confidently engage with Canada’s legal system.\nDo you know someone who could benefit? Please share this opportunity with your network!\n\nProudly supported by the Black Opportunity Fun.
URL:https://trulyalivefoundation.org/event/legal-information-series-february-2026/
CATEGORIES:Training
ATTACH;FMTTYPE=image/png:https://trulyalivefoundation.org/wp-content/uploads/2026/02/Copy-of-Legal-Information-Series_TAYFFI-3-e1770123496183.png
END:VEVENT
END:VCALENDAR