BEGIN:VCALENDAR
VERSION:2.0
PRODID:-//Truly Alive Youth and Family Foundation - ECPv6.15.17.1//NONSGML v1.0//EN
CALSCALE:GREGORIAN
METHOD:PUBLISH
X-ORIGINAL-URL:https://trulyalivefoundation.org
X-WR-CALDESC:Events for Truly Alive Youth and Family Foundation
REFRESH-INTERVAL;VALUE=DURATION:PT1H
X-Robots-Tag:noindex
X-PUBLISHED-TTL:PT1H
BEGIN:VTIMEZONE
TZID:America/Regina
BEGIN:STANDARD
TZOFFSETFROM:-0600
TZOFFSETTO:-0600
TZNAME:CST
DTSTART:20230101T000000
END:STANDARD
END:VTIMEZONE
BEGIN:VTIMEZONE
TZID:UTC
BEGIN:STANDARD
TZOFFSETFROM:+0000
TZOFFSETTO:+0000
TZNAME:UTC
DTSTART:20230101T000000
END:STANDARD
END:VTIMEZONE
BEGIN:VEVENT
DTSTART;TZID=America/Regina:20240912T170000
DTEND;TZID=America/Regina:20240912T190000
DTSTAMP:20260420T064502
CREATED:20240926T060308Z
LAST-MODIFIED:20241017T150910Z
UID:10000006-1726160400-1726167600@trulyalivefoundation.org
SUMMARY:Financial Literacy Workshop Series
DESCRIPTION:Are you new to Canada and looking to gain confidence in managing your finances? \nJoin our Financial Literacy Workshop Series\, specifically designed for newcomers and immigrants in Saskatchewan. In this free\, virtual series\, you’ll learn the essentials of banking\, budgeting\, fraud prevention\, and saving for your children’s education. \nTruly Alive Youth and Family Foundation Inc.\, in partnership with Foundations Learning and Skills Saskatchewan\, is excited to host a Financial Literacy Workshop series holding every Thursday in September. \nDates: Thursday September 5th\, 12th\, 19th\, and 26th. \nTime: 5:30 PM to 7:00 PM (CST) \nEquip yourself with the knowledge and skills to navigate the Canadian financial system and secure your financial future. Don’t miss this opportunity to build a strong financial foundation in your new home! \nFor registration\, please click the link below or scan the QR code on the poster. \nRegistration link: https://forms.office.com/r/QHYzLy2Kdf \nFor further inquiries\, contact us at 306-986-5341 or email familysupport@trulyalivefoundation.org.
URL:https://trulyalivefoundation.org/event/financial-literacy-workshop-series/2024-09-12/
LOCATION:Saskatchewan
CATEGORIES:Training
ATTACH;FMTTYPE=image/webp:https://trulyalivefoundation.org/wp-content/uploads/2024/09/Financial-Literacy-Poster.webp
END:VEVENT
BEGIN:VEVENT
DTSTART;TZID=America/Regina:20240905T170000
DTEND;TZID=America/Regina:20240905T190000
DTSTAMP:20260420T064502
CREATED:20240926T060308Z
LAST-MODIFIED:20241017T150910Z
UID:10000005-1725555600-1725562800@trulyalivefoundation.org
SUMMARY:Financial Literacy Workshop Series
DESCRIPTION:Are you new to Canada and looking to gain confidence in managing your finances? \nJoin our Financial Literacy Workshop Series\, specifically designed for newcomers and immigrants in Saskatchewan. In this free\, virtual series\, you’ll learn the essentials of banking\, budgeting\, fraud prevention\, and saving for your children’s education. \nTruly Alive Youth and Family Foundation Inc.\, in partnership with Foundations Learning and Skills Saskatchewan\, is excited to host a Financial Literacy Workshop series holding every Thursday in September. \nDates: Thursday September 5th\, 12th\, 19th\, and 26th. \nTime: 5:30 PM to 7:00 PM (CST) \nEquip yourself with the knowledge and skills to navigate the Canadian financial system and secure your financial future. Don’t miss this opportunity to build a strong financial foundation in your new home! \nFor registration\, please click the link below or scan the QR code on the poster. \nRegistration link: https://forms.office.com/r/QHYzLy2Kdf \nFor further inquiries\, contact us at 306-986-5341 or email familysupport@trulyalivefoundation.org.
URL:https://trulyalivefoundation.org/event/financial-literacy-workshop-series/2024-09-05/
LOCATION:Saskatchewan
CATEGORIES:Training
ATTACH;FMTTYPE=image/webp:https://trulyalivefoundation.org/wp-content/uploads/2024/09/Financial-Literacy-Poster.webp
END:VEVENT
BEGIN:VEVENT
DTSTART;TZID=UTC:20240816T130000
DTEND;TZID=UTC:20240816T150000
DTSTAMP:20260420T064502
CREATED:20241002T165211Z
LAST-MODIFIED:20241017T143907Z
UID:10000027-1723813200-1723820400@trulyalivefoundation.org
SUMMARY:Leadership Lab
DESCRIPTION:Are you a youth aspiring to become tomorrow’s leader?\n\n\nJoin our Leadership Lab to gain invaluable skills\, make friend and create positive impact in your community. Over the course of our engaging sessions\, you will:\n\n\n\nDevelop Leadership Skills: Enhance your abilities in teamwork and problem-solving.\nPractice Public Speaking: Build confidence and articulate your ideas effectively.\nConnect with Community Leaders: Meet inspiring leaders and gain insights from their experiences.\nParticipate in Mentorship: Benefit from guidance and support from experienced mentors.\nEngage in a Project: Apply your skills in a hands-on project that will challenge and inspire you.\n\n\n\nDate: August 16\, 2024\nTime: 1:00 pm – 3:00 pm\nLocation: TAYFFI’s Office\nMethod of Delivery: In-person\n\n\n\nThis is a unique opportunity to develop leadership skills and connect with like-minded peers. Don’t miss out—become a leader of tomorrow today.\n\n\nTo register or learn more\, please email us at: coordinator.sls@trulyalivefoundation.org
URL:https://trulyalivefoundation.org/event/leadership-lab/
LOCATION:3-320 Jessop Avenue Saskatoon SK S7N 1Y6\, 3-320 Jessop Avenue\, Saskatoon\, Saskatchewan\, Canada
CATEGORIES:Training
ATTACH;FMTTYPE=image/jpeg:https://trulyalivefoundation.org/wp-content/uploads/2024/10/leadership-Lab.jpg
ORGANIZER;CN="TAYYFI":MAILTO:coordinator.sls@trulyalivefoundation.org
END:VEVENT
END:VCALENDAR